Package: TFEA.ChIP Version: 1.26.0 Command: rm -rf TFEA.ChIP.buildbin-libdir && mkdir TFEA.ChIP.buildbin-libdir && /Users/biocbuild/BBS/utils/build-universal.sh TFEA.ChIP_1.26.0.tar.gz /Library/Frameworks/R.framework/Resources/bin/R TFEA.ChIP.buildbin-libdir StartedAt: 2025-02-19 17:24:29 -0500 (Wed, 19 Feb 2025) EndedAt: 2025-02-19 17:25:21 -0500 (Wed, 19 Feb 2025) EllapsedTime: 51.2 seconds RetCode: 0 Status: OK PackageFile: TFEA.ChIP_1.26.0.tgz PackageFileSize: 5.216 <A href="http://en.wikipedia.org/wiki/MiB" target="_blank">MiB</A>