Package: TFEA.ChIP
Version: 1.26.0
Command: /Library/Frameworks/R.framework/Resources/bin/R CMD INSTALL TFEA.ChIP
StartedAt: 2024-11-19 15:20:32 -0500 (Tue, 19 Nov 2024)
EndedAt: 2024-11-19 15:21:26 -0500 (Tue, 19 Nov 2024)
EllapsedTime: 54.5 seconds
RetCode: 0
Status: OK