Package: TFEA.ChIP Version: 1.26.0 Command: /home/biocbuild/R/R/bin/R CMD build --keep-empty-dirs --no-resave-data TFEA.ChIP StartedAt: 2025-02-04 03:30:25 -0000 (Tue, 04 Feb 2025) EndedAt: 2025-02-04 03:32:22 -0000 (Tue, 04 Feb 2025) EllapsedTime: 117.1 seconds RetCode: 0 Status: OK PackageFile: TFEA.ChIP_1.26.0.tar.gz PackageFileSize: 5.249 MiB