Package: TFEA.ChIP Version: 1.26.0 Command: /home/biocbuild/R/R/bin/R CMD check --install=check:TFEA.ChIP.install-out.txt --library=/home/biocbuild/R/R/site-library --no-vignettes --timings TFEA.ChIP_1.26.0.tar.gz StartedAt: 2025-02-04 11:40:53 -0000 (Tue, 04 Feb 2025) EndedAt: 2025-02-04 11:48:28 -0000 (Tue, 04 Feb 2025) EllapsedTime: 455.6 seconds RetCode: 0 Status: OK CheckDir: TFEA.ChIP.Rcheck Warnings: 0