Package: TFEA.ChIP Version: 1.26.0 Command: /home/biocbuild/R/R/bin/R CMD INSTALL TFEA.ChIP StartedAt: 2025-02-03 20:50:45 -0000 (Mon, 03 Feb 2025) EndedAt: 2025-02-03 20:51:33 -0000 (Mon, 03 Feb 2025) EllapsedTime: 48.1 seconds RetCode: 0 Status: OK