Package: TFHAZ Version: 1.28.0 Command: rm -rf TFHAZ.buildbin-libdir && mkdir TFHAZ.buildbin-libdir && /Users/biocbuild/BBS/utils/build-universal.sh TFHAZ_1.28.0.tar.gz /Library/Frameworks/R.framework/Resources/bin/R TFHAZ.buildbin-libdir StartedAt: 2025-02-01 17:10:39 -0500 (Sat, 01 Feb 2025) EndedAt: 2025-02-01 17:11:36 -0500 (Sat, 01 Feb 2025) EllapsedTime: 56.8 seconds RetCode: 0 Status: OK PackageFile: TFHAZ_1.28.0.tgz PackageFileSize: 3.414 MiB