Package: TFHAZ Version: 1.28.0 Command: /Library/Frameworks/R.framework/Resources/bin/R CMD build --keep-empty-dirs --no-resave-data TFHAZ StartedAt: 2025-01-30 23:24:32 -0500 (Thu, 30 Jan 2025) EndedAt: 2025-01-30 23:27:00 -0500 (Thu, 30 Jan 2025) EllapsedTime: 148.0 seconds RetCode: 0 Status: OK PackageFile: TFHAZ_1.28.0.tar.gz PackageFileSize: 2.516 MiB