Package: TFHAZ Version: 1.28.0 Command: /Library/Frameworks/R.framework/Resources/bin/R CMD check --install=check:TFHAZ.install-out.txt --library=/Library/Frameworks/R.framework/Resources/library --no-vignettes --timings TFHAZ_1.28.0.tar.gz StartedAt: 2025-01-31 11:08:35 -0500 (Fri, 31 Jan 2025) EndedAt: 2025-01-31 11:18:09 -0500 (Fri, 31 Jan 2025) EllapsedTime: 573.5 seconds RetCode: 0 Status: OK CheckDir: TFHAZ.Rcheck Warnings: 0