Package: TFHAZ Version: 1.28.0 Command: /home/biocbuild/bbs-3.20-bioc/R/bin/R CMD INSTALL TFHAZ StartedAt: 2025-01-30 15:30:54 -0500 (Thu, 30 Jan 2025) EndedAt: 2025-01-30 15:31:38 -0500 (Thu, 30 Jan 2025) EllapsedTime: 43.7 seconds RetCode: 0 Status: OK