Package: TFHAZ Version: 1.28.0 Command: rm -rf TFHAZ.buildbin-libdir && mkdir TFHAZ.buildbin-libdir && F:\biocbuild\bbs-3.20-bioc\R\bin\R.exe CMD INSTALL --build --library=TFHAZ.buildbin-libdir TFHAZ_1.28.0.tar.gz StartedAt: 2025-01-31 09:46:40 -0500 (Fri, 31 Jan 2025) EndedAt: 2025-01-31 09:47:32 -0500 (Fri, 31 Jan 2025) EllapsedTime: 52.2 seconds RetCode: 0 Status: OK PackageFile: TFHAZ_1.28.0.zip PackageFileSize: 3.172 MiB