Package: TFHAZ Version: 1.28.0 Command: /home/biocbuild/R/R/bin/R CMD build --keep-empty-dirs --no-resave-data TFHAZ StartedAt: 2025-01-31 03:09:44 -0000 (Fri, 31 Jan 2025) EndedAt: 2025-01-31 03:11:10 -0000 (Fri, 31 Jan 2025) EllapsedTime: 86.0 seconds RetCode: 0 Status: OK PackageFile: TFHAZ_1.28.0.tar.gz PackageFileSize: 2.481 MiB