Package: TFHAZ Version: 1.28.0 Command: /home/biocbuild/R/R/bin/R CMD check --install=check:TFHAZ.install-out.txt --library=/home/biocbuild/R/R/site-library --no-vignettes --timings TFHAZ_1.28.0.tar.gz StartedAt: 2025-01-31 11:01:21 -0000 (Fri, 31 Jan 2025) EndedAt: 2025-01-31 11:07:02 -0000 (Fri, 31 Jan 2025) EllapsedTime: 341.4 seconds RetCode: 0 Status: OK CheckDir: TFHAZ.Rcheck Warnings: 0