Package: TFHAZ Version: 1.28.0 Command: /home/biocbuild/R/R/bin/R CMD INSTALL TFHAZ StartedAt: 2025-01-30 20:38:28 -0000 (Thu, 30 Jan 2025) EndedAt: 2025-01-30 20:39:19 -0000 (Thu, 30 Jan 2025) EllapsedTime: 51.3 seconds RetCode: 0 Status: OK