Package: TFutils Version: 1.26.0 Command: rm -rf TFutils.buildbin-libdir && mkdir TFutils.buildbin-libdir && /Users/biocbuild/BBS/utils/build-universal.sh TFutils_1.26.0.tar.gz /Library/Frameworks/R.framework/Resources/bin/R TFutils.buildbin-libdir StartedAt: 2025-02-05 18:06:05 -0500 (Wed, 05 Feb 2025) EndedAt: 2025-02-05 18:06:48 -0500 (Wed, 05 Feb 2025) EllapsedTime: 42.5 seconds RetCode: 0 Status: OK PackageFile: TFutils_1.26.0.tgz PackageFileSize: 6.381 MiB