Package: TFutils Version: 1.26.0 Command: chmod a+r TFutils -R && F:\biocbuild\bbs-3.20-bioc\R\bin\R.exe CMD build --keep-empty-dirs --no-resave-data TFutils StartedAt: 2025-02-03 22:35:12 -0500 (Mon, 03 Feb 2025) EndedAt: 2025-02-03 22:36:58 -0500 (Mon, 03 Feb 2025) EllapsedTime: 106.2 seconds RetCode: 0 Status: OK PackageFile: TFutils_1.26.0.tar.gz PackageFileSize: 5.865 MiB