Package: TMSig Version: 1.0.0 Command: rm -rf TMSig.buildbin-libdir && mkdir TMSig.buildbin-libdir && /Users/biocbuild/BBS/utils/build-universal.sh TMSig_1.0.0.tar.gz /Library/Frameworks/R.framework/Resources/bin/R TMSig.buildbin-libdir StartedAt: 2025-02-01 17:12:36 -0500 (Sat, 01 Feb 2025) EndedAt: 2025-02-01 17:13:05 -0500 (Sat, 01 Feb 2025) EllapsedTime: 28.4 seconds RetCode: 0 Status: OK PackageFile: TMSig_1.0.0.tgz PackageFileSize: 3.468 MiB