Package: TMSig Version: 1.0.0 Command: /Library/Frameworks/R.framework/Resources/bin/R CMD build --keep-empty-dirs --no-resave-data TMSig StartedAt: 2025-01-31 09:32:54 -0500 (Fri, 31 Jan 2025) EndedAt: 2025-01-31 09:33:55 -0500 (Fri, 31 Jan 2025) EllapsedTime: 61.0 seconds RetCode: 0 Status: OK PackageFile: TMSig_1.0.0.tar.gz PackageFileSize: 3.428 MiB