Package: TMSig Version: 1.0.0 Command: rm -rf TMSig.buildbin-libdir && mkdir TMSig.buildbin-libdir && /Users/biocbuild/BBS/utils/build-universal.sh TMSig_1.0.0.tar.gz /Library/Frameworks/R.framework/Resources/bin/R TMSig.buildbin-libdir StartedAt: 2025-01-31 13:51:47 -0500 (Fri, 31 Jan 2025) EndedAt: 2025-01-31 13:52:36 -0500 (Fri, 31 Jan 2025) EllapsedTime: 49.3 seconds RetCode: 0 Status: OK PackageFile: TMSig_1.0.0.tgz PackageFileSize: 3.467 MiB