Package: TMSig Version: 1.0.0 Command: /home/biocbuild/bbs-3.20-bioc/R/bin/R CMD check --install=check:TMSig.install-out.txt --library=/home/biocbuild/bbs-3.20-bioc/R/site-library --timings TMSig_1.0.0.tar.gz StartedAt: 2025-01-31 03:04:21 -0500 (Fri, 31 Jan 2025) EndedAt: 2025-01-31 03:07:03 -0500 (Fri, 31 Jan 2025) EllapsedTime: 162.2 seconds RetCode: 0 Status: OK CheckDir: TMSig.Rcheck Warnings: 0