Package: TMSig Version: 1.0.0 Command: rm -rf TMSig.buildbin-libdir && mkdir TMSig.buildbin-libdir && F:\biocbuild\bbs-3.20-bioc\R\bin\R.exe CMD INSTALL --build --library=TMSig.buildbin-libdir TMSig_1.0.0.tar.gz StartedAt: 2025-01-31 09:47:40 -0500 (Fri, 31 Jan 2025) EndedAt: 2025-01-31 09:48:08 -0500 (Fri, 31 Jan 2025) EllapsedTime: 28.0 seconds RetCode: 0 Status: OK PackageFile: TMSig_1.0.0.zip PackageFileSize: 2.63 MiB