Package: TMSig Version: 1.0.0 Command: F:\biocbuild\bbs-3.20-bioc\R\bin\R.exe CMD check --no-multiarch --install=check:TMSig.install-out.txt --library=F:\biocbuild\bbs-3.20-bioc\R\library --no-vignettes --timings TMSig_1.0.0.tar.gz StartedAt: 2025-01-31 07:18:05 -0500 (Fri, 31 Jan 2025) EndedAt: 2025-01-31 07:21:15 -0500 (Fri, 31 Jan 2025) EllapsedTime: 189.8 seconds RetCode: 0 Status: OK CheckDir: TMSig.Rcheck Warnings: 0