Package: TMSig Version: 1.0.0 Command: /home/biocbuild/R/R/bin/R CMD build --keep-empty-dirs --no-resave-data TMSig StartedAt: 2025-01-31 03:13:07 -0000 (Fri, 31 Jan 2025) EndedAt: 2025-01-31 03:14:13 -0000 (Fri, 31 Jan 2025) EllapsedTime: 66.0 seconds RetCode: 0 Status: OK PackageFile: TMSig_1.0.0.tar.gz PackageFileSize: 2.999 MiB