Package: TMSig Version: 1.0.0 Command: /home/biocbuild/R/R/bin/R CMD check --install=check:TMSig.install-out.txt --library=/home/biocbuild/R/R/site-library --no-vignettes --timings TMSig_1.0.0.tar.gz StartedAt: 2025-01-31 11:07:10 -0000 (Fri, 31 Jan 2025) EndedAt: 2025-01-31 11:10:04 -0000 (Fri, 31 Jan 2025) EllapsedTime: 174.2 seconds RetCode: 0 Status: OK CheckDir: TMSig.Rcheck Warnings: 0