Package: TMixClust Version: 1.28.0 Command: /Library/Frameworks/R.framework/Resources/bin/R CMD build --keep-empty-dirs --no-resave-data TMixClust StartedAt: 2025-02-03 22:56:50 -0500 (Mon, 03 Feb 2025) EndedAt: 2025-02-03 22:57:58 -0500 (Mon, 03 Feb 2025) EllapsedTime: 67.9 seconds RetCode: 0 Status: OK PackageFile: TMixClust_1.28.0.tar.gz PackageFileSize: 508.7 KiB