Package: TMixClust Version: 1.28.0 Command: rm -rf TMixClust.buildbin-libdir && mkdir TMixClust.buildbin-libdir && F:\biocbuild\bbs-3.20-bioc\R\bin\R.exe CMD INSTALL --build --library=TMixClust.buildbin-libdir TMixClust_1.28.0.tar.gz StartedAt: 2025-02-04 09:41:26 -0500 (Tue, 04 Feb 2025) EndedAt: 2025-02-04 09:41:42 -0500 (Tue, 04 Feb 2025) EllapsedTime: 16.1 seconds RetCode: 0 Status: OK PackageFile: TMixClust_1.28.0.zip PackageFileSize: 746.4 KiB