Package: TMixClust Version: 1.28.0 Command: /home/biocbuild/R/R/bin/R CMD INSTALL TMixClust StartedAt: 2025-02-03 21:14:06 -0000 (Mon, 03 Feb 2025) EndedAt: 2025-02-03 21:14:13 -0000 (Mon, 03 Feb 2025) EllapsedTime: 6.8 seconds RetCode: 0 Status: OK