Package: TOAST Version: 1.20.0 Command: /Library/Frameworks/R.framework/Resources/bin/R CMD check --install=check:TOAST.install-out.txt --library=/Library/Frameworks/R.framework/Resources/library --no-vignettes --timings TOAST_1.20.0.tar.gz StartedAt: 2025-02-05 13:01:46 -0500 (Wed, 05 Feb 2025) EndedAt: 2025-02-05 13:07:06 -0500 (Wed, 05 Feb 2025) EllapsedTime: 320.5 seconds RetCode: 0 Status: OK CheckDir: TOAST.Rcheck Warnings: 0