Package: TOAST
Version: 1.19.0
Command: chmod a+r TOAST -R && C:\Users\biocbuild\bbs-3.20-bioc\R\bin\R.exe CMD build --keep-empty-dirs --no-resave-data TOAST
StartedAt: 2024-07-15 21:16:52 -0400 (Mon, 15 Jul 2024)
EndedAt: 2024-07-15 21:19:38 -0400 (Mon, 15 Jul 2024)
EllapsedTime: 166.6 seconds
RetCode: 0
Status: OK
PackageFile: TOAST_1.19.0.tar.gz
PackageFileSize: 3.219 <A href="http://en.wikipedia.org/wiki/MiB" target="_blank">MiB</A>