Package: TOP Version: 1.6.0 Command: /home/biocbuild/bbs-3.20-bioc/R/bin/R CMD check --install=check:TOP.install-out.txt --library=/home/biocbuild/bbs-3.20-bioc/R/site-library --timings TOP_1.6.0.tar.gz StartedAt: 2025-02-04 03:15:39 -0500 (Tue, 04 Feb 2025) EndedAt: 2025-02-04 03:19:41 -0500 (Tue, 04 Feb 2025) EllapsedTime: 241.2 seconds RetCode: 0 Status: OK CheckDir: TOP.Rcheck Warnings: 0