Package: TOP Version: 1.6.0 Command: rm -rf TOP.buildbin-libdir && mkdir TOP.buildbin-libdir && F:\biocbuild\bbs-3.20-bioc\R\bin\R.exe CMD INSTALL --build --library=TOP.buildbin-libdir TOP_1.6.0.tar.gz StartedAt: 2025-02-04 09:41:50 -0500 (Tue, 04 Feb 2025) EndedAt: 2025-02-04 09:42:29 -0500 (Tue, 04 Feb 2025) EllapsedTime: 38.7 seconds RetCode: 0 Status: OK PackageFile: TOP_1.6.0.zip PackageFileSize: 400.5 KiB