Package: TOP Version: 1.6.0 Command: /home/biocbuild/R/R/bin/R CMD build --keep-empty-dirs --no-resave-data TOP StartedAt: 2025-02-04 03:35:04 -0000 (Tue, 04 Feb 2025) EndedAt: 2025-02-04 03:36:47 -0000 (Tue, 04 Feb 2025) EllapsedTime: 103.2 seconds RetCode: 0 Status: OK PackageFile: TOP_1.6.0.tar.gz PackageFileSize: 386.7 KiB