Package: TOP Version: 1.6.0 Command: /home/biocbuild/R/R/bin/R CMD check --install=check:TOP.install-out.txt --library=/home/biocbuild/R/R/site-library --no-vignettes --timings TOP_1.6.0.tar.gz StartedAt: 2025-02-04 11:47:36 -0000 (Tue, 04 Feb 2025) EndedAt: 2025-02-04 11:51:46 -0000 (Tue, 04 Feb 2025) EllapsedTime: 249.4 seconds RetCode: 0 Status: OK CheckDir: TOP.Rcheck Warnings: 0