Package: TOP Version: 1.6.0 Command: /home/biocbuild/R/R/bin/R CMD INSTALL TOP StartedAt: 2025-02-03 21:22:40 -0000 (Mon, 03 Feb 2025) EndedAt: 2025-02-03 21:23:19 -0000 (Mon, 03 Feb 2025) EllapsedTime: 38.4 seconds RetCode: 0 Status: OK