Package: TPP
Version: 3.34.0
Command: /Library/Frameworks/R.framework/Resources/bin/R CMD INSTALL TPP
StartedAt: 2024-11-08 15:47:46 -0500 (Fri, 08 Nov 2024)
EndedAt: 2024-11-08 15:47:51 -0500 (Fri, 08 Nov 2024)
EllapsedTime: 5.2 seconds
RetCode: 0
Status: OK