Package: TPP
Version: 3.34.0
Command: /home/biocbuild/R/R/bin/R CMD build --keep-empty-dirs --no-resave-data TPP
StartedAt: 2024-11-20 04:31:54 -0000 (Wed, 20 Nov 2024)
EndedAt: 2024-11-20 04:33:45 -0000 (Wed, 20 Nov 2024)
EllapsedTime: 110.2 seconds
RetCode: 0
Status: OK
PackageFile: TPP_3.34.0.tar.gz
PackageFileSize: 8.408 <A href="http://en.wikipedia.org/wiki/MiB" target="_blank">MiB</A>