Package: TPP Version: 3.34.0 Command: /Library/Frameworks/R.framework/Resources/bin/R CMD INSTALL TPP StartedAt: 2025-02-03 16:41:50 -0500 (Mon, 03 Feb 2025) EndedAt: 2025-02-03 16:42:23 -0500 (Mon, 03 Feb 2025) EllapsedTime: 32.9 seconds RetCode: 0 Status: OK