Package: TPP
Version: 3.33.0
Command: chmod a+r TPP -R && F:\biocbuild\bbs-3.20-bioc\R\bin\R.exe CMD build --keep-empty-dirs --no-resave-data TPP
StartedAt: 2024-06-09 22:54:38 -0400 (Sun, 09 Jun 2024)
EndedAt: 2024-06-09 22:58:04 -0400 (Sun, 09 Jun 2024)
EllapsedTime: 206.1 seconds
RetCode: 1
Status: ERROR
PackageFile: None
PackageFileSize: NA