Package: TREG Version: 1.10.0 Command: rm -rf TREG.buildbin-libdir && mkdir TREG.buildbin-libdir && /Users/biocbuild/BBS/utils/build-universal.sh TREG_1.10.0.tar.gz /Library/Frameworks/R.framework/Resources/bin/R TREG.buildbin-libdir StartedAt: 2025-02-05 18:10:48 -0500 (Wed, 05 Feb 2025) EndedAt: 2025-02-05 18:11:15 -0500 (Wed, 05 Feb 2025) EllapsedTime: 27.3 seconds RetCode: 0 Status: OK PackageFile: TREG_1.10.0.tgz PackageFileSize: 2.659 MiB