Package: TREG Version: 1.10.0 Command: /Library/Frameworks/R.framework/Resources/bin/R CMD build --keep-empty-dirs --no-resave-data TREG StartedAt: 2025-02-04 10:02:58 -0500 (Tue, 04 Feb 2025) EndedAt: 2025-02-04 10:05:26 -0500 (Tue, 04 Feb 2025) EllapsedTime: 148.2 seconds RetCode: 0 Status: OK PackageFile: TREG_1.10.0.tar.gz PackageFileSize: 2.644 MiB