Package: TREG
Version: 1.9.0
Command: F:\biocbuild\bbs-3.20-bioc\R\bin\R.exe CMD INSTALL TREG
StartedAt: 2024-06-09 15:52:24 -0400 (Sun, 09 Jun 2024)
EndedAt: 2024-06-09 15:52:54 -0400 (Sun, 09 Jun 2024)
EllapsedTime: 30.0 seconds
RetCode: 0
Status: OK