Package: TREG Version: 1.10.0 Command: chmod a+r TREG -R && F:\biocbuild\bbs-3.20-bioc\R\bin\R.exe CMD build --keep-empty-dirs --no-resave-data TREG StartedAt: 2025-02-17 22:26:57 -0500 (Mon, 17 Feb 2025) EndedAt: 2025-02-17 22:29:15 -0500 (Mon, 17 Feb 2025) EllapsedTime: 137.6 seconds RetCode: 0 Status: OK PackageFile: TREG_1.10.0.tar.gz PackageFileSize: 1.665 <A href="http://en.wikipedia.org/wiki/MiB" target="_blank">MiB</A>