Package: TREG
Version: 1.10.0
Command: /home/biocbuild/R/R/bin/R CMD build --keep-empty-dirs --no-resave-data TREG
StartedAt: 2025-02-18 03:26:03 -0000 (Tue, 18 Feb 2025)
EndedAt: 2025-02-18 03:45:50 -0000 (Tue, 18 Feb 2025)
EllapsedTime: 1187.1 seconds
RetCode: 0
Status: OK
PackageFile: TREG_1.10.0.tar.gz
PackageFileSize: 1.683 <A href="http://en.wikipedia.org/wiki/MiB" target="_blank">MiB</A>