Package: TRESS Version: 1.12.0 Command: rm -rf TRESS.buildbin-libdir && mkdir TRESS.buildbin-libdir && /Users/biocbuild/BBS/utils/build-universal.sh TRESS_1.12.0.tar.gz /Library/Frameworks/R.framework/Resources/bin/R TRESS.buildbin-libdir StartedAt: 2025-02-01 17:15:32 -0500 (Sat, 01 Feb 2025) EndedAt: 2025-02-01 17:16:17 -0500 (Sat, 01 Feb 2025) EllapsedTime: 45.0 seconds RetCode: 0 Status: OK PackageFile: TRESS_1.12.0.tgz PackageFileSize: 684.4 KiB