Package: TRESS Version: 1.12.0 Command: /Library/Frameworks/R.framework/Resources/bin/R CMD INSTALL TRESS StartedAt: 2025-01-30 15:59:40 -0500 (Thu, 30 Jan 2025) EndedAt: 2025-01-30 16:00:22 -0500 (Thu, 30 Jan 2025) EllapsedTime: 41.9 seconds RetCode: 0 Status: OK