Package: TRESS Version: 1.12.0 Command: F:\biocbuild\bbs-3.20-bioc\R\bin\R.exe CMD check --no-multiarch --install=check:TRESS.install-out.txt --library=F:\biocbuild\bbs-3.20-bioc\R\library --no-vignettes --timings TRESS_1.12.0.tar.gz StartedAt: 2025-01-31 07:26:29 -0500 (Fri, 31 Jan 2025) EndedAt: 2025-01-31 07:32:41 -0500 (Fri, 31 Jan 2025) EllapsedTime: 372.2 seconds RetCode: 0 Status: OK CheckDir: TRESS.Rcheck Warnings: 0