Package: TRESS Version: 1.12.0 Command: F:\biocbuild\bbs-3.20-bioc\R\bin\R.exe CMD INSTALL TRESS StartedAt: 2025-01-30 16:11:55 -0500 (Thu, 30 Jan 2025) EndedAt: 2025-01-30 16:12:50 -0500 (Thu, 30 Jan 2025) EllapsedTime: 54.3 seconds RetCode: 0 Status: OK