Package: TRESS Version: 1.12.0 Command: /home/biocbuild/R/R/bin/R CMD build --keep-empty-dirs --no-resave-data TRESS StartedAt: 2025-01-31 03:18:01 -0000 (Fri, 31 Jan 2025) EndedAt: 2025-01-31 03:18:02 -0000 (Fri, 31 Jan 2025) EllapsedTime: 1.0 seconds RetCode: 0 Status: OK PackageFile: TRESS_1.12.0.tar.gz PackageFileSize: 483.8 KiB