Package: TSAR Version: 1.4.0 Command: /Library/Frameworks/R.framework/Resources/bin/R CMD build --keep-empty-dirs --no-resave-data TSAR StartedAt: 2025-02-04 10:07:56 -0500 (Tue, 04 Feb 2025) EndedAt: 2025-02-04 10:10:15 -0500 (Tue, 04 Feb 2025) EllapsedTime: 139.0 seconds RetCode: 0 Status: OK PackageFile: TSAR_1.4.0.tar.gz PackageFileSize: 4.046 MiB