Package: TSAR Version: 1.4.0 Command: rm -rf TSAR.buildbin-libdir && mkdir TSAR.buildbin-libdir && /Users/biocbuild/BBS/utils/build-universal.sh TSAR_1.4.0.tar.gz /Library/Frameworks/R.framework/Resources/bin/R TSAR.buildbin-libdir StartedAt: 2025-01-31 13:53:34 -0500 (Fri, 31 Jan 2025) EndedAt: 2025-01-31 13:54:01 -0500 (Fri, 31 Jan 2025) EllapsedTime: 27.6 seconds RetCode: 0 Status: OK PackageFile: TSAR_1.4.0.tgz PackageFileSize: 3.979 MiB