Package: TSAR Version: 1.4.0 Command: /Library/Frameworks/R.framework/Resources/bin/R CMD build --keep-empty-dirs --no-resave-data TSAR StartedAt: 2025-02-03 23:02:58 -0500 (Mon, 03 Feb 2025) EndedAt: 2025-02-03 23:08:10 -0500 (Mon, 03 Feb 2025) EllapsedTime: 312.0 seconds RetCode: 0 Status: OK PackageFile: TSAR_1.4.0.tar.gz PackageFileSize: 4.045 MiB